BEGIN:VCALENDAR
VERSION:2.0
PRODID:-//Opera Education - ECPv6.10.2//NONSGML v1.0//EN
CALSCALE:GREGORIAN
METHOD:PUBLISH
X-ORIGINAL-URL:https://www.operaeducation.org
X-WR-CALDESC:Eventi per Opera Education
REFRESH-INTERVAL;VALUE=DURATION:PT1H
X-Robots-Tag:noindex
X-PUBLISHED-TTL:PT1H
BEGIN:VTIMEZONE
TZID:Europe/Paris
BEGIN:DAYLIGHT
TZOFFSETFROM:+0100
TZOFFSETTO:+0200
TZNAME:CEST
DTSTART:20240331T010000
END:DAYLIGHT
BEGIN:STANDARD
TZOFFSETFROM:+0200
TZOFFSETTO:+0100
TZNAME:CET
DTSTART:20241027T010000
END:STANDARD
END:VTIMEZONE
BEGIN:VEVENT
DTSTART;TZID=Europe/Paris:20240413T093000
DTEND;TZID=Europe/Paris:20240413T110000
DTSTAMP:20260422T021201
CREATED:20240322T153100Z
LAST-MODIFIED:20240322T155505Z
UID:40632-1713000600-1713006000@www.operaeducation.org
SUMMARY:Un\, due\, tre… Turandot! a Palermo – Opera baby 6-36 mesi
DESCRIPTION:Opera baby\, il nostro progetto dedicato al pubblico dai 6 ai 36 mesi quest’anno si ispira alla Turandot\, l’opera di Giacomo Puccini. \nChe grande montagna di scatole! Quante serrature\, lacci e lucchetti… cosa mai ci sarà nascosto lì dietro? Un piede… due mani… tre note musicali… un occhio… due labbra… tre enigmi da sciogliere entro l’alba. Sei lì dentro Turandot? Calaf ti sta cercando. Sei proprio sicura di non voler uscire? \n1…2…3… Guarda le tue ali Turandot. Il tuo bozzolo è solo un momento\, un prima\, che dopo diventerà farfalla. Non avere paura. \n  \n \nUn\, due\, tre… Turandot!\nSpettacolo musicale con due performer\nLiberamente ispirato a Turandot di G. Puccini\nDrammaturgia musicale di Anna Pedrazzini\nRegia di Sara Zanobbio\n\nDurata spettacolo: 40 minuti. \n  \nAcquista biglietti
URL:https://www.operaeducation.org/evento/un-due-tre-turandot-a-palermo-opera-baby-6-36-mesi/
LOCATION:Teatro Massimo di Palermo\, P.za Giuseppe Verdi\, 90138 Palermo PA\, Palermo\, 90138
ATTACH;FMTTYPE=image/jpeg:https://www.operaeducation.org/wp-content/uploads/2024/03/ph_alessia_santambrogio_opera_baby-221-min-scaled.jpg
ORGANIZER;CN="AsLiCo":MAILTO:info@operaeducation.org
END:VEVENT
END:VCALENDAR