BEGIN:VCALENDAR
VERSION:2.0
PRODID:-//Opera Education - ECPv6.10.2//NONSGML v1.0//EN
CALSCALE:GREGORIAN
METHOD:PUBLISH
X-ORIGINAL-URL:https://www.operaeducation.org
X-WR-CALDESC:Eventi per Opera Education
REFRESH-INTERVAL;VALUE=DURATION:PT1H
X-Robots-Tag:noindex
X-PUBLISHED-TTL:PT1H
BEGIN:VTIMEZONE
TZID:Europe/Paris
BEGIN:DAYLIGHT
TZOFFSETFROM:+0100
TZOFFSETTO:+0200
TZNAME:CEST
DTSTART:20220327T010000
END:DAYLIGHT
BEGIN:STANDARD
TZOFFSETFROM:+0200
TZOFFSETTO:+0100
TZNAME:CET
DTSTART:20221030T010000
END:STANDARD
BEGIN:DAYLIGHT
TZOFFSETFROM:+0100
TZOFFSETTO:+0200
TZNAME:CEST
DTSTART:20230326T010000
END:DAYLIGHT
BEGIN:STANDARD
TZOFFSETFROM:+0200
TZOFFSETTO:+0100
TZNAME:CET
DTSTART:20231029T010000
END:STANDARD
END:VTIMEZONE
BEGIN:VEVENT
DTSTART;TZID=Europe/Paris:20230205T103000
DTEND;TZID=Europe/Paris:20230205T120000
DTSTAMP:20260421T211501
CREATED:20230206T161505Z
LAST-MODIFIED:20230206T161505Z
UID:29840-1675593000-1675598400@www.operaeducation.org
SUMMARY:Opera meno9 a Milano
DESCRIPTION:Un percorso di benessere e musica dedicato ai genitori in attesa\, consigliato dal quinto all’ottavo mese di gravidanza. Tre incontri a cura di musicisti e specialisti neonatali: musica e movimento prima e dopo la nascita\, rilassamento in musica e canto prenatale\, concerto di musica classica dal vivo. \n\n\n\n\n\n\n\n\n\n\n\n\n\n\n\nScopri di più\n\n\n\n\n\n\n\n\n\n\n\n\nVai al calendario\n\n\nInfo e prenotazioni
URL:https://www.operaeducation.org/evento/opera-meno9-a-milano-2/
LOCATION:Teatro Comunale di Vicenza\, Viale Giuseppe Mazzini\, 39\, Vicenza\, Vicenza\, 36100\, Italia
ATTACH;FMTTYPE=image/jpeg:https://www.operaeducation.org/wp-content/uploads/2021/07/Opera-9-home.jpg
END:VEVENT
BEGIN:VEVENT
DTSTART;TZID=Europe/Paris:20230129T103000
DTEND;TZID=Europe/Paris:20230129T120000
DTSTAMP:20260421T211501
CREATED:20230206T161419Z
LAST-MODIFIED:20230206T161419Z
UID:29838-1674988200-1674993600@www.operaeducation.org
SUMMARY:Opera meno9 a Milano
DESCRIPTION:Un percorso di benessere e musica dedicato ai genitori in attesa\, consigliato dal quinto all’ottavo mese di gravidanza. Tre incontri a cura di musicisti e specialisti neonatali: musica e movimento prima e dopo la nascita\, rilassamento in musica e canto prenatale\, concerto di musica classica dal vivo. \n\n\n\n\n\n\n\n\n\n\n\n\n\n\n\nScopri di più\n\n\n\n\n\n\n\n\n\n\n\n\nVai al calendario\n\n\nInfo e prenotazioni
URL:https://www.operaeducation.org/evento/opera-meno9-a-milano/
LOCATION:Teatro Comunale di Vicenza\, Viale Giuseppe Mazzini\, 39\, Vicenza\, Vicenza\, 36100\, Italia
ATTACH;FMTTYPE=image/jpeg:https://www.operaeducation.org/wp-content/uploads/2021/07/Opera-9-home.jpg
END:VEVENT
BEGIN:VEVENT
DTSTART;TZID=Europe/Paris:20220312T110000
DTEND;TZID=Europe/Paris:20220312T123000
DTSTAMP:20260421T211501
CREATED:20220119T165934Z
LAST-MODIFIED:20220119T171828Z
UID:17782-1647082800-1647088200@www.operaeducation.org
SUMMARY:Opera meno9: laboratorio musicale per famiglie in attesa - VICENZA
DESCRIPTION:Un percorso di benessere e musica dedicato ai genitori in attesa\, consigliato dal quinto all’ottavo mese di gravidanza. Tre incontri a cura di musicisti e specialisti neonatali: musica e movimento prima e dopo la nascita\, rilassamento in musica e canto prenatale\, concerto di musica classica dal vivo. \n\n\n\n\n\n\n\n\n\n\n\n\n\nACQUISTA I BIGLIETTI\nVAI AL CALENDARIO\nINFORMAZIONI
URL:https://www.operaeducation.org/evento/opera-meno9-laboratorio-musicale-per-famiglie-in-attesa-vicenza/2022-03-12/
LOCATION:Teatro Comunale di Vicenza\, Viale Giuseppe Mazzini\, 39\, Vicenza\, Vicenza\, 36100\, Italia
CATEGORIES:Opera Education,Opera meno9,Sociale e famiglie
ATTACH;FMTTYPE=image/jpeg:https://www.operaeducation.org/wp-content/uploads/2022/01/Opera-9-home-1.jpg
END:VEVENT
END:VCALENDAR