BEGIN:VCALENDAR
VERSION:2.0
PRODID:-//Opera Education - ECPv6.10.2//NONSGML v1.0//EN
CALSCALE:GREGORIAN
METHOD:PUBLISH
X-ORIGINAL-URL:https://www.operaeducation.org
X-WR-CALDESC:Eventi per Opera Education
REFRESH-INTERVAL;VALUE=DURATION:PT1H
X-Robots-Tag:noindex
X-PUBLISHED-TTL:PT1H
BEGIN:VTIMEZONE
TZID:Europe/Paris
BEGIN:DAYLIGHT
TZOFFSETFROM:+0100
TZOFFSETTO:+0200
TZNAME:CEST
DTSTART:20240331T010000
END:DAYLIGHT
BEGIN:STANDARD
TZOFFSETFROM:+0200
TZOFFSETTO:+0100
TZNAME:CET
DTSTART:20241027T010000
END:STANDARD
END:VTIMEZONE
BEGIN:VEVENT
DTSTART;TZID=Europe/Paris:20240706T103000
DTEND;TZID=Europe/Paris:20240706T113000
DTSTAMP:20260421T232101
CREATED:20240625T155702Z
LAST-MODIFIED:20240625T155702Z
UID:44618-1720261800-1720265400@www.operaeducation.org
SUMMARY:Un\, due\, tre... Turandot a Como
DESCRIPTION:liberamente ispirato a Turandot di Giacomo Puccini\n \nOpera baby – IX edizione\nIntorno al Festival Como Città della Musica\nOpera per bambini da 6 a 36 mesi \n  \nUn\, due\, tre… Turandot! è uno spettacolo sensoriale con la drammaturgia musicale di Anna Pedrazzini e la regia di Sara Zanobbio.\nOpera baby si rivolge ai bambini in età prescolare\, ancora in fasce. Un’età in cui recenti studi neuro-cognitivi dimostrano che la musica può avere un ruolo fondamentale nella crescita del bambino\, delle sue capacità motorie\, dell’apprendimento e dello sviluppo cognitivo. \nIn scena un musicista e un performer: Calaf sarà Lorenzo Gatto (attore)\, mentre Turandot sarà Lila Perez Forte\, chitarrista. \nIngresso gratuito. \nIn caso di maltempo\, l’evento si terrà al Teatro Sociale.
URL:https://www.operaeducation.org/evento/un-due-tre-turandot-a-como/
LOCATION:Parco Villa Olmo\, Como\, 22100
ATTACH;FMTTYPE=image/jpeg:https://www.operaeducation.org/wp-content/uploads/2024/03/Copertina-OB_Turandot.jpg
ORGANIZER;CN="AsLiCo":MAILTO:info@operaeducation.org
END:VEVENT
END:VCALENDAR