BEGIN:VCALENDAR
VERSION:2.0
PRODID:-//Opera Education - ECPv6.10.2//NONSGML v1.0//EN
CALSCALE:GREGORIAN
METHOD:PUBLISH
X-ORIGINAL-URL:https://www.operaeducation.org
X-WR-CALDESC:Eventi per Opera Education
REFRESH-INTERVAL;VALUE=DURATION:PT1H
X-Robots-Tag:noindex
X-PUBLISHED-TTL:PT1H
BEGIN:VTIMEZONE
TZID:Europe/Paris
BEGIN:DAYLIGHT
TZOFFSETFROM:+0100
TZOFFSETTO:+0200
TZNAME:CEST
DTSTART:20240331T010000
END:DAYLIGHT
BEGIN:STANDARD
TZOFFSETFROM:+0200
TZOFFSETTO:+0100
TZNAME:CET
DTSTART:20241027T010000
END:STANDARD
END:VTIMEZONE
BEGIN:VEVENT
DTSTART;TZID=Europe/Paris:20240707T173000
DTEND;TZID=Europe/Paris:20240707T183000
DTSTAMP:20260421T221911
CREATED:20240701T132017Z
LAST-MODIFIED:20240701T132017Z
UID:44705-1720373400-1720377000@www.operaeducation.org
SUMMARY:Turandot. Cuore di ghiaccio a Como
DESCRIPTION:Tratto da Turandot di Giacomo Puccini. Casa Ricordi Srl\, Milano\nOpera kids – XV edizione \n  \nIntorno al Festival Como Città della Musica\nOpera per bambini da 3 a 7 anni \n  \nOpera kids è uno spettacolo musicale con cantante\, due attori e pianista. \nLa regia e la drammaturgia di Turandot. Cuore di ghiaccio sono curate da Massimiliano Burini\, la drammaturgia musicale è di Anna Pedrazzini\, l’ideazione e la realizzazione di costumi e maschere sono a cura di Mariella Carbone\, i costumi sono realizzati da Daniela Temperini\, Debora Renzi cura le coreografie di scena. Il cast è composto da una cantante che interpreterà il ruolo di Turandot\, 2 attori che ricopriranno i ruoli di Calaf e di Liù\, accompagnati da un pianista. \nIn una scena eterea\, illuminata da una luce soffusa e delicata\, appare un giardino di peschi spogli. I petali dei fiori ormai caduti a terra\, le lanterne ancora appese ai rami. Sembra che l’inverno sia passato o stia per arrivare. Tre personaggi dietro alle loro maschere\, come delle ombre\, appaiono sulla scena. Essi raccontano un’antica storia\, quella della Principessa Turandot\, vittima di una maledizione che ha coinvolto tutto il regno. Il suo cuore congelato non può amare\, provare emozioni e così anche il suo regno perde vigore\, luce e speranza. Solo l’arrivo di qualcuno di grande coraggio potrebbe rompere l’incantesimo che l’ha resa la Principessa di ghiaccio e tutto il regno potrebbe tornare a splendere e ad amare. \n  \nKIT DELLO SPETTATORE PER TUTTI I BAMBINI\n\n\n\n\n\n\n\n\n\n\nIn questo kit troverai\, come una vera e propria cassetta degli attrezzi\, tutti gli strumenti che serviranno ai tuoi bambini per prepararsi alla visione dello spettacolo musicale Turandot. Cuore di ghiaccio… beh\, ma anche i grandi devono prepararsi allo spettacolo! \n  \n\n\n\n\n\n\n\n\n\n\n\n\n\n\n\n\n\n\n\n\n\n\n\n\n\n\n\nscarica il kit!
URL:https://www.operaeducation.org/evento/turandot-cuore-di-ghiaccio-a-como/
LOCATION:Parco Traù\, Via Trau\, Como\, 22100
ATTACH;FMTTYPE=image/jpeg:https://www.operaeducation.org/wp-content/uploads/2023/12/Ping-Pang-e-Pong-scaled.jpg
ORGANIZER;CN="AsLiCo":MAILTO:info@operaeducation.org
END:VEVENT
END:VCALENDAR