BEGIN:VCALENDAR
VERSION:2.0
PRODID:-//Opera Education - ECPv6.10.2//NONSGML v1.0//EN
CALSCALE:GREGORIAN
METHOD:PUBLISH
X-WR-CALNAME:Opera Education
X-ORIGINAL-URL:https://www.operaeducation.org
X-WR-CALDESC:Eventi per Opera Education
REFRESH-INTERVAL;VALUE=DURATION:PT1H
X-Robots-Tag:noindex
X-PUBLISHED-TTL:PT1H
BEGIN:VTIMEZONE
TZID:Europe/Paris
BEGIN:DAYLIGHT
TZOFFSETFROM:+0100
TZOFFSETTO:+0200
TZNAME:CEST
DTSTART:20250330T010000
END:DAYLIGHT
BEGIN:STANDARD
TZOFFSETFROM:+0200
TZOFFSETTO:+0100
TZNAME:CET
DTSTART:20251026T010000
END:STANDARD
END:VTIMEZONE
BEGIN:VEVENT
DTSTART;TZID=Europe/Paris:20250316T103000
DTEND;TZID=Europe/Paris:20250316T111500
DTSTAMP:20260421T203510
CREATED:20241007T134055Z
LAST-MODIFIED:20241007T134127Z
UID:46180-1742121000-1742123700@www.operaeducation.org
SUMMARY:Patatrac! Le burle di Falstaff a Como
DESCRIPTION:Opera baby – X edizione\nLiberamente ispirato a Falstaff di Giuseppe Verdi\nDrammaturgia musicale Anna Pedrazzini\nRegia Beatrice Baruffini\nNuovo allestimento\nProduzione AsLiCo \nSpettacolo musicale con attore e musicista.\nDurata: 40 minuti. \n\nUna palla è una pancia\, una testa\, un corpo di animale. Per gioco si trasforma di continuo\, e tra una burla e l’altra\, è perfino possibile che diventi Falstaff! \n  \n\n\n\n\n\n\n\n\n\n\n\n\n\nBiglietti presto disponibili
URL:https://www.operaeducation.org/evento/patatrac-le-burle-di-falstaff-a-como-2/2025-03-16/
LOCATION:Teatro Sociale di Como\, Via Bellini 3\, Como\, Como\, 22100\, Italia
ATTACH;FMTTYPE=image/jpeg:https://www.operaeducation.org/wp-content/uploads/2024/09/Patatrac.jpg
ORGANIZER;CN="AsLiCo":MAILTO:info@operaeducation.org
END:VEVENT
END:VCALENDAR