BEGIN:VCALENDAR
VERSION:2.0
PRODID:-//Opera Education - ECPv6.10.2//NONSGML v1.0//EN
CALSCALE:GREGORIAN
METHOD:PUBLISH
X-ORIGINAL-URL:https://www.operaeducation.org
X-WR-CALDESC:Eventi per Opera Education
REFRESH-INTERVAL;VALUE=DURATION:PT1H
X-Robots-Tag:noindex
X-PUBLISHED-TTL:PT1H
BEGIN:VTIMEZONE
TZID:UTC
BEGIN:STANDARD
TZOFFSETFROM:+0000
TZOFFSETTO:+0000
TZNAME:UTC
DTSTART:20220101T000000
END:STANDARD
END:VTIMEZONE
BEGIN:VEVENT
DTSTART;TZID=UTC:20221106T110000
DTEND;TZID=UTC:20221106T123000
DTSTAMP:20260422T081521
CREATED:20210708T141049Z
LAST-MODIFIED:20221006T133552Z
UID:16753-1667732400-1667737800@www.operaeducation.org
SUMMARY:Opera meno9 2022-23 a Como - I ciclo
DESCRIPTION:Un percorso di benessere e musica dedicato ai genitori in attesa\, consigliato dal quinto all’ottavo mese di gravidanza. Tre incontri a cura di musicisti e specialisti neonatali: musica e movimento prima e dopo la nascita\, rilassamento in musica e canto prenatale\, concerto di musica classica dal vivo. \n\n\n\n\n\n\n\n\n\n\n\n\n\nACQUISTA I BIGLIETTI\nVAI AL CALENDARIO\nSCOPRI DI PIÙ
URL:https://www.operaeducation.org/evento/operameno9como/2022-11-06/
LOCATION:Teatro Sociale di Como\, Via Bellini 3\, Como\, Como\, 22100\, Italia
CATEGORIES:2022,Opera Education,Opera meno9,Sociale Famiglie
ATTACH;FMTTYPE=image/jpeg:https://www.operaeducation.org/wp-content/uploads/2021/07/Opera-9-home.jpg
ORGANIZER;CN="AsLiCo":MAILTO:info@operaeducation.org
END:VEVENT
END:VCALENDAR