BEGIN:VCALENDAR
VERSION:2.0
PRODID:-//Opera Education - ECPv6.10.2//NONSGML v1.0//EN
CALSCALE:GREGORIAN
METHOD:PUBLISH
X-ORIGINAL-URL:https://www.operaeducation.org
X-WR-CALDESC:Eventi per Opera Education
REFRESH-INTERVAL;VALUE=DURATION:PT1H
X-Robots-Tag:noindex
X-PUBLISHED-TTL:PT1H
BEGIN:VTIMEZONE
TZID:Europe/Paris
BEGIN:DAYLIGHT
TZOFFSETFROM:+0100
TZOFFSETTO:+0200
TZNAME:CEST
DTSTART:20240331T010000
END:DAYLIGHT
BEGIN:STANDARD
TZOFFSETFROM:+0200
TZOFFSETTO:+0100
TZNAME:CET
DTSTART:20241027T010000
END:STANDARD
END:VTIMEZONE
BEGIN:VEVENT
DTSTART;TZID=Europe/Paris:20241027T100000
DTEND;TZID=Europe/Paris:20241027T104500
DTSTAMP:20260421T204807
CREATED:20241007T130741Z
LAST-MODIFIED:20241007T140505Z
UID:46153-1730023200-1730025900@www.operaeducation.org
SUMMARY:CenerentoQUA CenerentoLA a Milano
DESCRIPTION:Tratto da La Cenerentola di Gioachino Rossini \nOpera baby – VII edizione \nAttrice Francesca Tripaldi\nFisarmonicista Paolo Camporesi \nRegia Sara Zanobbio\nDrammaturgia musicale Anna Pedrazzini\nScene e costumi Cantieri del Teatro \nProduzione AsLiCo \nSpettacolo musicale dedicato ai bambini da 0 a 36 mesi \n\n\n\n\n\n\n\n\n\n\n\n\n\n\n\n\n\n\n\n\n\n\n\n\n\n\n\nBiglietti
URL:https://www.operaeducation.org/evento/cenerentoqua-cenerentola/2024-10-27/
LOCATION:Teatro del Buratto\, Via Giovanni Bovio\, 5\, Milano\, 20159\, Italia
ATTACH;FMTTYPE=image/jpeg:https://www.operaeducation.org/wp-content/uploads/2024/10/CenerentoQua-CenerentoLA-scaled.jpg
ORGANIZER;CN="AsLiCo":MAILTO:info@operaeducation.org
END:VEVENT
END:VCALENDAR