BEGIN:VCALENDAR
VERSION:2.0
PRODID:-//Opera Education - ECPv6.10.2//NONSGML v1.0//EN
CALSCALE:GREGORIAN
METHOD:PUBLISH
X-WR-CALNAME:Opera Education
X-ORIGINAL-URL:https://www.operaeducation.org
X-WR-CALDESC:Eventi per Opera Education
REFRESH-INTERVAL;VALUE=DURATION:PT1H
X-Robots-Tag:noindex
X-PUBLISHED-TTL:PT1H
BEGIN:VTIMEZONE
TZID:Europe/Paris
BEGIN:DAYLIGHT
TZOFFSETFROM:+0100
TZOFFSETTO:+0200
TZNAME:CEST
DTSTART:20230326T010000
END:DAYLIGHT
BEGIN:STANDARD
TZOFFSETFROM:+0200
TZOFFSETTO:+0100
TZNAME:CET
DTSTART:20231029T010000
END:STANDARD
END:VTIMEZONE
BEGIN:VEVENT
DTSTART;TZID=Europe/Paris:20230520T153000
DTEND;TZID=Europe/Paris:20230520T180000
DTSTAMP:20260422T035824
CREATED:20221229T144507Z
LAST-MODIFIED:20230206T091941Z
UID:28275-1684596600-1684605600@www.operaeducation.org
SUMMARY:Acquaprofonda a Parma – Opera family 6-14 anni
DESCRIPTION:Civic Opera domani – XXV edizione speciale\nMusica di Giovanni Sollima. Libretto di Giancarlo De Cataldo\nEd. SIV Publishing\n\ncon Cantanti vincitori e finalisti delle ultime edizioni del Concorso AsLiCo\n\nDirettore Riccardo Bisatti\n\nRegia Luis Ernesto Doñas\nScene Chiara La Ferlita\nCostumi Elisa Cobello\nLuci Camilla Piccioni\nOrchestra 1813 \nNuovo allestimento \n\nNuova opera commissionata da AsLiCo\nin coproduzione con Teatro dell’Opera di Roma\n\n\nAcquaprofonda è un’opera lirica contemporanea con musiche originali di Giovanni Sollima su libretto di Giancarlo De Cataldo\, che il Teatro Sociale di Como – AsLiCo ha commissionato\, in coproduzione con il Teatro dell’Opera di Roma. \nCon quest’opera lirica per bambini e ragazzi della scuola primaria e secondaria di I grado affrontiamo l’attualissimo tema dell’inquinamento delle acque. \n  \n\n\n\n\n\n\n\n\n\n\n\n\n\n\n\n\n\n\n\n\n\n\n\n\n\n\n\nScopri di più
URL:https://www.operaeducation.org/evento/acquaprofonda-opera-family-6-14-anni-3/2023-05-20/
LOCATION:Teatro Regio di Parma\, Str. Giuseppe Garibaldi\, 16/a\, Parma\, Parma\, 43121\, Italia
ATTACH;FMTTYPE=image/jpeg:https://www.operaeducation.org/wp-content/uploads/2022/05/ph_alessia_santambrogio_acquaprofonda-42-1-scaled.jpg
END:VEVENT
END:VCALENDAR