BEGIN:VCALENDAR
VERSION:2.0
PRODID:-//Opera Education - ECPv6.10.2//NONSGML v1.0//EN
CALSCALE:GREGORIAN
METHOD:PUBLISH
X-WR-CALNAME:Opera Education
X-ORIGINAL-URL:https://www.operaeducation.org
X-WR-CALDESC:Eventi per Opera Education
REFRESH-INTERVAL;VALUE=DURATION:PT1H
X-Robots-Tag:noindex
X-PUBLISHED-TTL:PT1H
BEGIN:VTIMEZONE
TZID:Europe/Paris
BEGIN:DAYLIGHT
TZOFFSETFROM:+0100
TZOFFSETTO:+0200
TZNAME:CEST
DTSTART:20220327T010000
END:DAYLIGHT
BEGIN:STANDARD
TZOFFSETFROM:+0200
TZOFFSETTO:+0100
TZNAME:CET
DTSTART:20221030T010000
END:STANDARD
END:VTIMEZONE
BEGIN:VEVENT
DTSTART;TZID=Europe/Paris:20221023T100000
DTEND;TZID=Europe/Paris:20221023T153000
DTSTAMP:20260421T203136
CREATED:20220930T150844Z
LAST-MODIFIED:20221013T145411Z
UID:25461-1666519200-1666539000@www.operaeducation.org
SUMMARY:Opera Family Experience
DESCRIPTION:Attività per bambini dai 6 mesi ai 10 anni\, senza dimenticare le famiglie in attesa\, alla scoperta dei progetti di Opera Education dedicati al Flauto Magico di Wolfgang Amadeus Mozart. \n\nOre 10.00 – 10.45: Laboratorio musicale su Il flauto di Tam Pam\, Opera baby (6 -36 mesi);\nGratuito su prenotazione: prenota qui\nOre 10.00 – 10.45: Laboratorio musicale su Magico Flauto\, Opera kids (3-7 anni);\nGratuito su prenotazione: prenota qui\nOre 11.00 – 12.00: Incontro con il parto positivo e Baby Brains – Per famiglie in attesa e neogenitori\nGratuito su prenotazione: prenota qui\nOre 14.30 – 15.30: Laboratorio pre-spettacolo con visita a teatro – 3-10 anni;\nGratuito su prenotazione da effettuare presso la biglietteria del Teatro Sociale di Como.\nOre 16.00 – 17.00: spettacolo Abbracci\, dedicato al pubblico dai 3 anni. Acquista i biglietti qui.\n\n\n\n\n\n\n\n\n\n\n\n\n\n\nSCARICA IL PROGRAMMA\n\n\nVAI AL CALENDARIO\n\n\nSCOPRI DI PIÙ
URL:https://www.operaeducation.org/evento/opera-education-experience-family/
LOCATION:Teatro Sociale di Como\, Via Bellini 3\, Como\, Como\, 22100\, Italia
CATEGORIES:2022,Laboratorio
ATTACH;FMTTYPE=image/jpeg:https://www.operaeducation.org/wp-content/uploads/2022/09/POZ_9678-scaled.jpg
ORGANIZER;CN="AsLiCo":MAILTO:info@operaeducation.org
END:VEVENT
BEGIN:VEVENT
DTSTART;TZID=Europe/Paris:20221022T093000
DTEND;TZID=Europe/Paris:20221022T190000
DTSTAMP:20260421T203136
CREATED:20220328T154446Z
LAST-MODIFIED:20221013T143342Z
UID:18053-1666431000-1666465200@www.operaeducation.org
SUMMARY:Opera Education Experience
DESCRIPTION:PROGRAMMA OPERA DOMANI\n\n\nPROGRAMMA OPERA KIDS E BABY\n\n\n\n\n\n\n\n\n\n\n\n\n\nGiornata intensiva di formazione dedicata a docenti ed educatori per l’introduzione ai progetti Opera baby\, Opera kids e Opera domani dedicati al Flauto Magico di Wolfgang Amadeus Mozart. \nIncontri con i team di regia\, approfondimenti sull’opera mozartiana\, spunti didattici\, accessibilità\, momenti partecipativi e attività teatrali per un’immersione formativa e performativa nel mondo di Opera Education.  \nModalità di partecipazione:\nIscrizione obbligatoria tramite la piattaforma di iscrizione per docenti \n\nCosto di € 30 per docenti scuola primaria e seconda di primo grado\nGratuito per educatori scuola dell’infanzia e asili nido\n\n\n\n\n\n\n\n\n\n\n\n\n\n\nISCRIVITI\nVAI AL CALENDARIO
URL:https://www.operaeducation.org/evento/opera-education-experience-docenti/
LOCATION:Teatro Sociale di Como\, Via Bellini 3\, Como\, Como\, 22100\, Italia
CATEGORIES:2022,Incontri e formazione
ATTACH;FMTTYPE=image/jpeg:https://www.operaeducation.org/wp-content/uploads/2022/03/mariagrazia_mercaldo_ph_alessia_santambrogio-7-scaled.jpg
END:VEVENT
END:VCALENDAR