BEGIN:VCALENDAR
VERSION:2.0
PRODID:-//Opera Education - ECPv6.10.2//NONSGML v1.0//EN
CALSCALE:GREGORIAN
METHOD:PUBLISH
X-WR-CALNAME:Opera Education
X-ORIGINAL-URL:https://www.operaeducation.org
X-WR-CALDESC:Eventi per Opera Education
REFRESH-INTERVAL;VALUE=DURATION:PT1H
X-Robots-Tag:noindex
X-PUBLISHED-TTL:PT1H
BEGIN:VTIMEZONE
TZID:Europe/Paris
BEGIN:DAYLIGHT
TZOFFSETFROM:+0100
TZOFFSETTO:+0200
TZNAME:CEST
DTSTART:20260329T010000
END:DAYLIGHT
BEGIN:STANDARD
TZOFFSETFROM:+0200
TZOFFSETTO:+0100
TZNAME:CET
DTSTART:20261025T010000
END:STANDARD
END:VTIMEZONE
BEGIN:VEVENT
DTSTART;TZID=Europe/Paris:20260301T160000
DTEND;TZID=Europe/Paris:20260301T173000
DTSTAMP:20260421T121934
CREATED:20260218T164836Z
LAST-MODIFIED:20260218T165510Z
UID:48838-1772380800-1772386200@www.operaeducation.org
SUMMARY:Piccolo Orso 6-14 anni - Reggio Emilia\, Teatro Valli
DESCRIPTION:
URL:https://www.operaeducation.org/evento/rigoletto-6-14-anni-macerata-sferisterio/
LOCATION:Teatro Valli\, Reggio Emilia\, Italia
CATEGORIES:Opera domani
ATTACH;FMTTYPE=image/jpeg:https://www.operaeducation.org/wp-content/uploads/2026/02/Piccolo-Orso-OD-scaled.jpg
ORGANIZER;CN="AsLiCo":MAILTO:info@operaeducation.org
END:VEVENT
BEGIN:VEVENT
DTSTART;TZID=Europe/Paris:20260301T170000
DTEND;TZID=Europe/Paris:20260301T183000
DTSTAMP:20260421T121934
CREATED:20260218T135140Z
LAST-MODIFIED:20260223T125015Z
UID:48823-1772384400-1772389800@www.operaeducation.org
SUMMARY:Rigoletto 6-14 anni - Bergamo\, Teatro Sociale
DESCRIPTION:Rigoletto. Il mistero del teatro è un’opera partecipativa!\nPer arrivare preparato allo spettacolo scarica gratuitamente il Kit dello spettatore. \nACQUISTA QUI I BIGLIETTI
URL:https://www.operaeducation.org/evento/rigoletto-6-14-anni-2/
LOCATION:Teatro Sociale di Bergamo\, Italia
CATEGORIES:Opera domani
ATTACH;FMTTYPE=image/jpeg:https://www.operaeducation.org/wp-content/uploads/2026/02/Rigoletto-OD-scaled.jpg
ORGANIZER;CN="AsLiCo":MAILTO:info@operaeducation.org
END:VEVENT
BEGIN:VEVENT
DTSTART;TZID=Europe/Paris:20260307T150000
DTEND;TZID=Europe/Paris:20260307T160000
DTSTAMP:20260421T121934
CREATED:20260223T155029Z
LAST-MODIFIED:20260225T151053Z
UID:48933-1772895600-1772899200@www.operaeducation.org
SUMMARY:Gilda. Nel gioco del Duca - 3-6 anni - Parma\, Teatro Regio
DESCRIPTION:Gilda. Nel gioco del Duca è uno spettacolo partecipativo!\nPer arrivare preparato allo spettacolo scarica gratuitamente il Kit dello spettatore. \nParma\, Teatro Regio\nSabato 7 marzo\, alle ore 15.00 e alle ore 18.00\nACQUISTA QUI I BIGLIETTI \nGilda. Nel gioco del Duca\ntratto da Rigoletto di Giuseppe Verdi\nDrammaturgia musicale Anna Pedrazzini\nDrammaturgia Veronica Negrini \nSpettacolo con cantante\, attrice e pianista \nRegia Alessio Boccuni\nScene e costumi Beatrice Damiani \nNuovo allestimento\nProduzione AsLiCo\nIn collaborazione con Orrida Imago\nOpera kids – XVII edizione  \nDurata 50 minuti \nAll’interno del tabellone di gioco di MantovCity\, Gilda\, ingenua figlia del buffone di corte Rigoletto\, si muove come una pedina nelle mani del Duca di Mantova. Senza accorgersene\, accetta le sue regole\, ripete i suoi gesti\, dà voce alla sua volontà. Ma presto la giovane si accorgerà di essere stata privata della libertà di scegliere veramente il proprio destino\, riuscendo ad affermare\, anche a costo di sacrificarsi\, la sua volontà. \nQuesto adattamento di Rigoletto trasforma l’opera di Verdi in un grande gioco teatrale. Il mondo di Mantova diventa un colorato gioco da tavolo dove i personaggi si muovono come pedine e il pubblico è invitato a partecipare attivamente: si canta\, si gioca\, si scopre. Gilda è la protagonista di questa avventura: non più solo una figura romantica\, ma una ragazza che impara a fare le proprie scelte e a seguire la sua strada. Con leggerezza e fantasia\, i bambini sono accompagnati in un viaggio dove anche il gioco diventa occasione per capire qualcosa in più su sé stessi\, sugli altri e sul mondo.
URL:https://www.operaeducation.org/evento/gilda-nel-gioco-del-duca-3-6-anni-parma/2026-03-07/
LOCATION:Teatro Regio di Parma\, Str. Giuseppe Garibaldi\, 16/a\, Parma\, Parma\, 43121\, Italia
CATEGORIES:Opera kids
ATTACH;FMTTYPE=image/jpeg:https://www.operaeducation.org/wp-content/uploads/2026/02/Opera-kids-Gilda-scaled.jpg
ORGANIZER;CN="AsLiCo":MAILTO:info@operaeducation.org
END:VEVENT
BEGIN:VEVENT
DTSTART;TZID=Europe/Paris:20260308T170000
DTEND;TZID=Europe/Paris:20260308T180000
DTSTAMP:20260421T121934
CREATED:20260224T172233Z
LAST-MODIFIED:20260224T173924Z
UID:48936-1772989200-1772992800@www.operaeducation.org
SUMMARY:Gilda. Nel gioco del Duca - 3-6 anni - Vicenza\, Teatro Comunale
DESCRIPTION:Gilda. Nel gioco del Duca è uno spettacolo partecipativo!\nPer arrivare preparato allo spettacolo scarica gratuitamente il Kit dello spettatore. \nACQUISTA QUI I BIGLIETTI
URL:https://www.operaeducation.org/evento/gilda-nel-gioco-del-duca-3-6-anni-vicenza-teatro-comunale/
LOCATION:Teatro Comunale di Vicenza\, Viale Giuseppe Mazzini\, 39\, Vicenza\, Vicenza\, 36100\, Italia
CATEGORIES:Opera kids
ATTACH;FMTTYPE=image/jpeg:https://www.operaeducation.org/wp-content/uploads/2026/02/Opera-kids-Gilda-scaled.jpg
ORGANIZER;CN="AsLiCo":MAILTO:info@operaeducation.org
END:VEVENT
BEGIN:VEVENT
DTSTART;TZID=Europe/Paris:20260318T183000
DTEND;TZID=Europe/Paris:20260318T200000
DTSTAMP:20260421T121934
CREATED:20260223T113240Z
LAST-MODIFIED:20260223T124643Z
UID:48897-1773858600-1773864000@www.operaeducation.org
SUMMARY:Piccolo Orso 6-14 anni - Lucca\, Teatro del Giglio
DESCRIPTION:Piccolo Orso e la Montagna di ghiaccio è un’opera partecipativa!\nPer arrivare preparato allo spettacolo scarica gratuitamente il Kit dello spettatore. \nACQUISTA QUI I BIGLIETTI
URL:https://www.operaeducation.org/evento/piccolo-orso-6-14-anni-lucca-giglio/
LOCATION:Teatro del Giglio\, Lucca\, Piazza del Giglio\, 13/15\, Lucca\, 55100\, Italia
CATEGORIES:Opera domani
ATTACH;FMTTYPE=image/jpeg:https://www.operaeducation.org/wp-content/uploads/2026/02/Piccolo-Orso-OD-scaled.jpg
ORGANIZER;CN="AsLiCo":MAILTO:info@operaeducation.org
END:VEVENT
BEGIN:VEVENT
DTSTART;TZID=Europe/Paris:20260321T103000
DTEND;TZID=Europe/Paris:20260321T113000
DTSTAMP:20260421T121934
CREATED:20260224T175450Z
LAST-MODIFIED:20260303T165108Z
UID:48945-1774089000-1774092600@www.operaeducation.org
SUMMARY:Il giardino di Rigoletto - 0-3 anni - Como\, Teatro Sociale
DESCRIPTION:Il giardino di Rigoletto è uno spettacolo interattivo!\nDurante la rappresentazione grandi e piccini saranno guidati dai performer in lallazioni e movimenti. \nLo spettacolo andrà in scena al Teatro Sociale di Como:\nsabato 21 marzo\, alle ore 10.30\, 16.00 e 17.30\ndomenica 22 marzo\, alle ore 10.30\, 16.00 e 17.30 \nACQUISTA QUI I BIGLIETTI
URL:https://www.operaeducation.org/evento/il-giardino-di-rigoletto-opera-baby-0-3-anni-como-teatro-sociale/2026-03-21/
LOCATION:Teatro Sociale di Como\, Via Bellini 3\, Como\, Como\, 22100\, Italia
CATEGORIES:Opera baby
ATTACH;FMTTYPE=image/jpeg:https://www.operaeducation.org/wp-content/uploads/2026/02/Opera-baby-Rigoletto-scaled.jpg
ORGANIZER;CN="AsLiCo":MAILTO:info@operaeducation.org
END:VEVENT
BEGIN:VEVENT
DTSTART;TZID=Europe/Paris:20260321T110000
DTEND;TZID=Europe/Paris:20260321T120000
DTSTAMP:20260421T121934
CREATED:20260224T172629Z
LAST-MODIFIED:20260224T173804Z
UID:48938-1774090800-1774094400@www.operaeducation.org
SUMMARY:Gilda. Nel gioco del Duca - 3-6 anni - Milano\, Teatro alla Scala
DESCRIPTION:Gilda. Nel gioco del Duca è uno spettacolo partecipativo!\nPer arrivare preparato allo spettacolo scarica gratuitamente il Kit dello spettatore. \nACQUISTA QUI I BIGLIETTI
URL:https://www.operaeducation.org/evento/gilda-nel-gioco-del-duca-3-6-anni-milano-teatro-alla-scala/
LOCATION:Teatro alla Scala\, Via Filodrammatici 2\, Milano\, 20100\, Italia
CATEGORIES:Opera kids
ATTACH;FMTTYPE=image/jpeg:https://www.operaeducation.org/wp-content/uploads/2026/02/Opera-kids-Gilda-scaled.jpg
ORGANIZER;CN="AsLiCo":MAILTO:info@operaeducation.org
END:VEVENT
BEGIN:VEVENT
DTSTART;TZID=Europe/Paris:20260328T100000
DTEND;TZID=Europe/Paris:20260328T113000
DTSTAMP:20260421T121934
CREATED:20260303T170912Z
LAST-MODIFIED:20260303T171824Z
UID:49001-1774692000-1774697400@www.operaeducation.org
SUMMARY:Il giardino di Rigoletto - 0-3 anni - Milano\, Teatro Parenti
DESCRIPTION:Il giardino di Rigoletto è uno spettacolo interattivo!\nDurante la rappresentazione grandi e piccini saranno guidati dai performer in lallazioni e movimenti. \nLo spettacolo andrà in scena presso il Teatro Franco Parenti\n28 marzo 2026\, ore 10.00 e 11.15 \n29 marzo 2026\, ore 10.00 e 11.15 \nACQUISTA QUI I BIGLIETTI
URL:https://www.operaeducation.org/evento/il-giardino-di-rigoletto-0-3-anni-milano-teatro-parenti-2/2026-03-28/
LOCATION:Teatro Franco Parenti\, Milano\, Milano\, MI\, Italia
CATEGORIES:Opera baby
ATTACH;FMTTYPE=image/jpeg:https://www.operaeducation.org/wp-content/uploads/2026/02/Opera-baby-Rigoletto-scaled.jpg
ORGANIZER;CN="AsLiCo":MAILTO:info@operaeducation.org
END:VEVENT
BEGIN:VEVENT
DTSTART;TZID=Europe/Paris:20260329T100000
DTEND;TZID=Europe/Paris:20260329T113000
DTSTAMP:20260421T121934
CREATED:20260303T170912Z
LAST-MODIFIED:20260303T171824Z
UID:49002-1774778400-1774783800@www.operaeducation.org
SUMMARY:Il giardino di Rigoletto - 0-3 anni - Milano\, Teatro Parenti
DESCRIPTION:Il giardino di Rigoletto è uno spettacolo interattivo!\nDurante la rappresentazione grandi e piccini saranno guidati dai performer in lallazioni e movimenti. \nLo spettacolo andrà in scena presso il Teatro Franco Parenti\n28 marzo 2026\, ore 10.00 e 11.15 \n29 marzo 2026\, ore 10.00 e 11.15 \nACQUISTA QUI I BIGLIETTI
URL:https://www.operaeducation.org/evento/il-giardino-di-rigoletto-0-3-anni-milano-teatro-parenti-2/2026-03-29/
LOCATION:Teatro Franco Parenti\, Milano\, Milano\, MI\, Italia
CATEGORIES:Opera baby
ATTACH;FMTTYPE=image/jpeg:https://www.operaeducation.org/wp-content/uploads/2026/02/Opera-baby-Rigoletto-scaled.jpg
ORGANIZER;CN="AsLiCo":MAILTO:info@operaeducation.org
END:VEVENT
BEGIN:VEVENT
DTSTART;TZID=Europe/Paris:20260329T111500
DTEND;TZID=Europe/Paris:20260329T120000
DTSTAMP:20260421T121934
CREATED:20260303T170912Z
LAST-MODIFIED:20260303T171825Z
UID:49003-1774782900-1774785600@www.operaeducation.org
SUMMARY:Il giardino di Rigoletto - 0-3 anni - Milano\, Teatro Parenti
DESCRIPTION:Il giardino di Rigoletto è uno spettacolo interattivo!\nDurante la rappresentazione grandi e piccini saranno guidati dai performer in lallazioni e movimenti. \nLo spettacolo andrà in scena presso il Teatro Franco Parenti\n28 marzo 2026\, ore 10.00 e 11.15 \n29 marzo 2026\, ore 10.00 e 11.15 \nACQUISTA QUI I BIGLIETTI
URL:https://www.operaeducation.org/evento/il-giardino-di-rigoletto-0-3-anni-milano-teatro-parenti-2/2026-03-29/2/
LOCATION:Teatro Franco Parenti\, Milano\, Milano\, MI\, Italia
CATEGORIES:Opera baby
ATTACH;FMTTYPE=image/jpeg:https://www.operaeducation.org/wp-content/uploads/2026/02/Opera-baby-Rigoletto-scaled.jpg
ORGANIZER;CN="AsLiCo":MAILTO:info@operaeducation.org
END:VEVENT
END:VCALENDAR