BEGIN:VCALENDAR
VERSION:2.0
PRODID:-//Opera Education - ECPv6.10.2//NONSGML v1.0//EN
CALSCALE:GREGORIAN
METHOD:PUBLISH
X-WR-CALNAME:Opera Education
X-ORIGINAL-URL:https://www.operaeducation.org
X-WR-CALDESC:Eventi per Opera Education
REFRESH-INTERVAL;VALUE=DURATION:PT1H
X-Robots-Tag:noindex
X-PUBLISHED-TTL:PT1H
BEGIN:VTIMEZONE
TZID:Europe/Paris
BEGIN:DAYLIGHT
TZOFFSETFROM:+0100
TZOFFSETTO:+0200
TZNAME:CEST
DTSTART:20240331T010000
END:DAYLIGHT
BEGIN:STANDARD
TZOFFSETFROM:+0200
TZOFFSETTO:+0100
TZNAME:CET
DTSTART:20241027T010000
END:STANDARD
END:VTIMEZONE
BEGIN:VEVENT
DTSTART;TZID=Europe/Paris:20241109T103000
DTEND;TZID=Europe/Paris:20241109T111500
DTSTAMP:20260422T135455
CREATED:20241007T131839Z
LAST-MODIFIED:20241007T153236Z
UID:46166-1731148200-1731150900@www.operaeducation.org
SUMMARY:Un\, due\, tre… Turandot! a Belluno
DESCRIPTION:Opera baby – IX edizione\nliberamente ispirato a Turandot di Giacomo Puccini\nSpettacolo musicale con due performer\nDrammaturgia musicale di Anna Pedrazzini\nRegia di Sara Zanobbio \nDurata spettacolo: 40 minuti.\n \nChe grande montagna di scatole! Quante serrature\, lacci e lucchetti… cosa mai ci sarà nascosto lì dietro? Un piede… due mani… tre note musicali… un occhio… due labbra… tre enigmi da sciogliere entro l’alba. Sei lì dentro Turandot? Calaf ti sta cercando. Sei proprio sicura di non voler uscire? \n1…2…3… Guarda le tue ali Turandot. Il tuo bozzolo è solo un momento\, un prima\, che dopo diventerà farfalla. Non avere paura. \n  \n\n\n\n\n\n\n\n\n\n\n\n\n\nBiglietti presto disponibili
URL:https://www.operaeducation.org/evento/un-due-tre-turandot-a-belluno/
LOCATION:Teatro Comunale di Belluno\, Piazza Vittorio Emanuele\, 2\, Belluno\, 32100\, Italia
ATTACH;FMTTYPE=image/jpeg:https://www.operaeducation.org/wp-content/uploads/2024/03/Copertina-OB_Turandot.jpg
ORGANIZER;CN="AsLiCo":MAILTO:info@operaeducation.org
END:VEVENT
BEGIN:VEVENT
DTSTART;TZID=Europe/Paris:20241117T100000
DTEND;TZID=Europe/Paris:20241117T104500
DTSTAMP:20260422T135455
CREATED:20241007T142403Z
LAST-MODIFIED:20241007T153400Z
UID:46191-1731837600-1731840300@www.operaeducation.org
SUMMARY:Il flauto di Tam Pam a Milano
DESCRIPTION:Opera baby – VIII edizione\nliberamente ispirato a Die Zauberflöte di Wolfgang Amadeus Mozart \nDrammaturgia musicale Anna Pedrazzini \nRegia Sara Zanobbio\n \nProduzione AsLiCo\nNuovo allestimento \nImparare a distinguere e riconoscere le sfumature è una capacità che si sviluppa crescendo. Macchie sfuocate\, chiazze di luce\, una confusione prevalentemente in bianco e nero: questo è ciò che vede un bambino quando apre per la prima volta gli occhi sul mondo.\nDa questo spunto nasce l’idea de Il flauto di Tam Pam\, un viaggio nei grandi contrasti: il bianco e il nero\, il bene e il male\, il giorno e la notte\, il maggiore e il minore. \n\n\n\n\n\n\n\n\n\n\n\n\n\nBiglietti
URL:https://www.operaeducation.org/evento/il-flauto-di-tam-pam-a-milano/2024-11-17/
LOCATION:Teatro del Buratto\, Via Giovanni Bovio\, 5\, Milano\, 20159\, Italia
ATTACH;FMTTYPE=image/jpeg:https://www.operaeducation.org/wp-content/uploads/2023/03/ph_alessia_santambrogio_opera_baby-87.jpg
ORGANIZER;CN="AsLiCo":MAILTO:info@operaeducation.org
END:VEVENT
END:VCALENDAR