BEGIN:VCALENDAR
VERSION:2.0
PRODID:-//Opera Education - ECPv6.10.2//NONSGML v1.0//EN
CALSCALE:GREGORIAN
METHOD:PUBLISH
X-ORIGINAL-URL:https://www.operaeducation.org
X-WR-CALDESC:Eventi per Opera Education
REFRESH-INTERVAL;VALUE=DURATION:PT1H
X-Robots-Tag:noindex
X-PUBLISHED-TTL:PT1H
BEGIN:VTIMEZONE
TZID:Europe/Paris
BEGIN:DAYLIGHT
TZOFFSETFROM:+0100
TZOFFSETTO:+0200
TZNAME:CEST
DTSTART:20250330T010000
END:DAYLIGHT
BEGIN:STANDARD
TZOFFSETFROM:+0200
TZOFFSETTO:+0100
TZNAME:CET
DTSTART:20251026T010000
END:STANDARD
BEGIN:DAYLIGHT
TZOFFSETFROM:+0100
TZOFFSETTO:+0200
TZNAME:CEST
DTSTART:20260329T010000
END:DAYLIGHT
BEGIN:STANDARD
TZOFFSETFROM:+0200
TZOFFSETTO:+0100
TZNAME:CET
DTSTART:20261025T010000
END:STANDARD
END:VTIMEZONE
BEGIN:VEVENT
DTSTART;TZID=Europe/Paris:20250215T160000
DTEND;TZID=Europe/Paris:20250215T170000
DTSTAMP:20260423T003202
CREATED:20241011T091315Z
LAST-MODIFIED:20250127T143230Z
UID:46225-1739635200-1739638800@www.operaeducation.org
SUMMARY:Falstaff. Gli allegri giocattoli di Windsor a Como
DESCRIPTION:Falstaff. Gli allegri giocattoli di Windsor\n \nda Falstaff. Musica di Giuseppe Verdi.\nAdattamento drammaturgico Andrea Piazza\ncon Cantanti vincitori e finalisti delle ultime edizioni del Concorso AsLiCo\n\nDirettore Massimo Fiocchi Malaspina\nRegia Andrea PiazzaScene Alice Vanini\nCostumi Rosario Martone\nOrchestra 1813\n\nDurata spettacolo: 70 minuti \n  \nSparsi per la cameretta di Windsor\, i suoi giocattoli non stanno fermi un attimo!\nSi incontrano\, si inseguono\, si cercano e non si annoiano mai. \n\n\n\n\n\n\n\n\n\n\n\n\n\nBiglietti\n\n\nScopri di più
URL:https://www.operaeducation.org/evento/falstaff-gli-allegri-giocattoli-di-windsor/
LOCATION:Teatro Sociale di Como\, Via Bellini 3\, Como\, Como\, 22100\, Italia
CATEGORIES:2024/25,Opera domani
ORGANIZER;CN="AsLiCo":MAILTO:info@operaeducation.org
END:VEVENT
BEGIN:VEVENT
DTSTART;TZID=Europe/Paris:20250215T203000
DTEND;TZID=Europe/Paris:20250215T220000
DTSTAMP:20260423T003202
CREATED:20250127T143322Z
LAST-MODIFIED:20250127T143322Z
UID:46871-1739651400-1739656800@www.operaeducation.org
SUMMARY:Falstaff. Gli allegri giocattoli di Windsor a Como
DESCRIPTION:Falstaff. Gli allegri giocattoli di Windsor\n \nda Falstaff. Musica di Giuseppe Verdi.\nAdattamento drammaturgico Andrea Piazza\ncon Cantanti vincitori e finalisti delle ultime edizioni del Concorso AsLiCo\n\nDirettore Massimo Fiocchi Malaspina\nRegia Andrea PiazzaScene Alice Vanini\nCostumi Rosario Martone\nOrchestra 1813\n\nDurata spettacolo: 70 minuti \n  \nSparsi per la cameretta di Windsor\, i suoi giocattoli non stanno fermi un attimo!\nSi incontrano\, si inseguono\, si cercano e non si annoiano mai. \n\n\n\n\n\n\n\n\n\n\n\n\n\nBiglietti\n\n\nScopri di più
URL:https://www.operaeducation.org/evento/falstaff-gli-allegri-giocattoli-di-windsor-a-como/
LOCATION:Teatro Sociale di Como\, Via Bellini 3\, Como\, Como\, 22100\, Italia
CATEGORIES:2024/25,Opera domani
ORGANIZER;CN="AsLiCo":MAILTO:info@operaeducation.org
END:VEVENT
BEGIN:VEVENT
DTSTART;TZID=Europe/Paris:20250316T160000
DTEND;TZID=Europe/Paris:20250316T173000
DTSTAMP:20260423T003202
CREATED:20250127T143552Z
LAST-MODIFIED:20250127T143552Z
UID:46873-1742140800-1742146200@www.operaeducation.org
SUMMARY:Falstaff. Gli allegri giocattoli di Windsor a Brescia
DESCRIPTION:Falstaff. Gli allegri giocattoli di Windsor\n \nda Falstaff. Musica di Giuseppe Verdi.\nAdattamento drammaturgico Andrea Piazza\ncon Cantanti vincitori e finalisti delle ultime edizioni del Concorso AsLiCo\n\nDirettore Massimo Fiocchi Malaspina\nRegia Andrea PiazzaScene Alice Vanini\nCostumi Rosario Martone\nOrchestra 1813\n\nDurata spettacolo: 70 minuti \n  \nSparsi per la cameretta di Windsor\, i suoi giocattoli non stanno fermi un attimo!\nSi incontrano\, si inseguono\, si cercano e non si annoiano mai. \n\n\n\n\n\n\n\n\n\n\n\n\n\nBiglietti\n\n\nScopri di più
URL:https://www.operaeducation.org/evento/falstaff-gli-allegri-giocattoli-di-windsor-a-brescia/
LOCATION:Teatro Grande di Brescia\, Italia
CATEGORIES:2024/25,Opera domani
ORGANIZER;CN="AsLiCo":MAILTO:info@operaeducation.org
END:VEVENT
BEGIN:VEVENT
DTSTART;TZID=Europe/Paris:20250316T193000
DTEND;TZID=Europe/Paris:20250316T210000
DTSTAMP:20260423T003202
CREATED:20250127T143648Z
LAST-MODIFIED:20250127T143648Z
UID:46876-1742153400-1742158800@www.operaeducation.org
SUMMARY:Falstaff. Gli allegri giocattoli di Windsor a Brescia
DESCRIPTION:Falstaff. Gli allegri giocattoli di Windsor\n \nda Falstaff. Musica di Giuseppe Verdi.\nAdattamento drammaturgico Andrea Piazza\ncon Cantanti vincitori e finalisti delle ultime edizioni del Concorso AsLiCo\n\nDirettore Massimo Fiocchi Malaspina\nRegia Andrea PiazzaScene Alice Vanini\nCostumi Rosario Martone\nOrchestra 1813\n\nDurata spettacolo: 70 minuti \n  \nSparsi per la cameretta di Windsor\, i suoi giocattoli non stanno fermi un attimo!\nSi incontrano\, si inseguono\, si cercano e non si annoiano mai. \n\n\n\n\n\n\n\n\n\n\n\n\n\nBiglietti\n\n\nScopri di più
URL:https://www.operaeducation.org/evento/falstaff-gli-allegri-giocattoli-di-windsor-a-brescia-2/
LOCATION:Teatro Grande di Brescia\, Italia
CATEGORIES:2024/25,Opera domani
ORGANIZER;CN="AsLiCo":MAILTO:info@operaeducation.org
END:VEVENT
BEGIN:VEVENT
DTSTART;TZID=Europe/Paris:20250504T170000
DTEND;TZID=Europe/Paris:20250504T183000
DTSTAMP:20260423T003202
CREATED:20250127T143808Z
LAST-MODIFIED:20250127T143808Z
UID:46879-1746378000-1746383400@www.operaeducation.org
SUMMARY:Falstaff. Gli allegri giocattoli di Windsor a Bergamo
DESCRIPTION:Falstaff. Gli allegri giocattoli di Windsor\n \nda Falstaff. Musica di Giuseppe Verdi.\nAdattamento drammaturgico Andrea Piazza\ncon Cantanti vincitori e finalisti delle ultime edizioni del Concorso AsLiCo\n\nDirettore Massimo Fiocchi Malaspina\nRegia Andrea PiazzaScene Alice Vanini\nCostumi Rosario Martone\nOrchestra 1813\n\nDurata spettacolo: 70 minuti \n  \nSparsi per la cameretta di Windsor\, i suoi giocattoli non stanno fermi un attimo!\nSi incontrano\, si inseguono\, si cercano e non si annoiano mai. \n\n\n\n\n\n\n\n\n\n\n\n\n\nBiglietti presto disponibili\n\n\nScopri di più
URL:https://www.operaeducation.org/evento/falstaff-gli-allegri-giocattoli-di-windsor-a-bergamo/
LOCATION:Teatro Sociale di Bergamo\, Italia
CATEGORIES:2024/25,Opera domani
ORGANIZER;CN="AsLiCo":MAILTO:info@operaeducation.org
END:VEVENT
BEGIN:VEVENT
DTSTART;TZID=Europe/Paris:20250524T150000
DTEND;TZID=Europe/Paris:20250524T163000
DTSTAMP:20260423T003202
CREATED:20250127T143935Z
LAST-MODIFIED:20250127T143956Z
UID:46881-1748098800-1748104200@www.operaeducation.org
SUMMARY:Falstaff. Gli allegri giocattoli di Windsor a Parma
DESCRIPTION:Falstaff. Gli allegri giocattoli di Windsor\n \nda Falstaff. Musica di Giuseppe Verdi.\nAdattamento drammaturgico Andrea Piazza\ncon Cantanti vincitori e finalisti delle ultime edizioni del Concorso AsLiCo\n\nDirettore Massimo Fiocchi Malaspina\nRegia Andrea PiazzaScene Alice Vanini\nCostumi Rosario Martone\nOrchestra 1813\n\nDurata spettacolo: 70 minuti \n  \nSparsi per la cameretta di Windsor\, i suoi giocattoli non stanno fermi un attimo!\nSi incontrano\, si inseguono\, si cercano e non si annoiano mai. \n\n\n\n\n\n\n\n\n\n\n\n\n\nBiglietti\n\n\nScopri di più
URL:https://www.operaeducation.org/evento/falstaff-gli-allegri-giocattoli-di-windsor-a-parma/
LOCATION:Teatro Regio di Parma\, Str. Giuseppe Garibaldi\, 16/a\, Parma\, Parma\, 43121\, Italia
CATEGORIES:2024/25,Opera domani
ORGANIZER;CN="AsLiCo":MAILTO:info@operaeducation.org
END:VEVENT
BEGIN:VEVENT
DTSTART;TZID=Europe/Paris:20250524T180000
DTEND;TZID=Europe/Paris:20250524T193000
DTSTAMP:20260423T003202
CREATED:20250127T144102Z
LAST-MODIFIED:20250127T144102Z
UID:46883-1748109600-1748115000@www.operaeducation.org
SUMMARY:Falstaff. Gli allegri giocattoli di Windsor a Parma
DESCRIPTION:Falstaff. Gli allegri giocattoli di Windsor\n \nda Falstaff. Musica di Giuseppe Verdi.\nAdattamento drammaturgico Andrea Piazza\ncon Cantanti vincitori e finalisti delle ultime edizioni del Concorso AsLiCo\n\nDirettore Massimo Fiocchi Malaspina\nRegia Andrea PiazzaScene Alice Vanini\nCostumi Rosario Martone\nOrchestra 1813\n\nDurata spettacolo: 70 minuti \n  \nSparsi per la cameretta di Windsor\, i suoi giocattoli non stanno fermi un attimo!\nSi incontrano\, si inseguono\, si cercano e non si annoiano mai. \n\n\n\n\n\n\n\n\n\n\n\n\n\nBiglietti\n\n\nScopri di più
URL:https://www.operaeducation.org/evento/falstaff-gli-allegri-giocattoli-di-windsor-a-parma-2/
LOCATION:Teatro Regio di Parma\, Str. Giuseppe Garibaldi\, 16/a\, Parma\, Parma\, 43121\, Italia
CATEGORIES:2024/25,Opera domani
ORGANIZER;CN="AsLiCo":MAILTO:info@operaeducation.org
END:VEVENT
BEGIN:VEVENT
DTSTART;TZID=Europe/Paris:20250605T203000
DTEND;TZID=Europe/Paris:20250605T220000
DTSTAMP:20260423T003202
CREATED:20250127T144335Z
LAST-MODIFIED:20250516T075645Z
UID:46885-1749155400-1749160800@www.operaeducation.org
SUMMARY:Falstaff. Gli allegri giocattoli di Windsor a Milano
DESCRIPTION:Falstaff. Gli allegri giocattoli di Windsor\n \nda Falstaff. Musica di Giuseppe Verdi.\nAdattamento drammaturgico Andrea Piazza\ncon Cantanti vincitori e finalisti delle ultime edizioni del Concorso AsLiCo\n\nDirettore Massimo Fiocchi Malaspina\nRegia Andrea PiazzaScene Alice Vanini\nCostumi Rosario Martone\nOrchestra 1813\n\nDurata spettacolo: 70 minuti \n  \nSparsi per la cameretta di Windsor\, i suoi giocattoli non stanno fermi un attimo!\nSi incontrano\, si inseguono\, si cercano e non si annoiano mai. \n\n\n\n\n\n\n\n\n\n\n\n\n\nBiglietti presto disponibili\n\n\nScopri di più
URL:https://www.operaeducation.org/evento/falstaff-gli-allegri-giocattoli-di-windsor-a-milano/
LOCATION:Teatro Arcimboldi di Milano\, Viale dell'Innovazione\, 20\, Milano\, 20126\, Italia
CATEGORIES:2024/25,Opera domani
ORGANIZER;CN="AsLiCo":MAILTO:info@operaeducation.org
END:VEVENT
BEGIN:VEVENT
DTSTART;TZID=Europe/Paris:20260131T153000
DTEND;TZID=Europe/Paris:20260131T170000
DTSTAMP:20260423T003202
CREATED:20260218T172427Z
LAST-MODIFIED:20260223T110008Z
UID:48859-1769873400-1769878800@www.operaeducation.org
SUMMARY:Piccolo Orso 6-14 anni - Venezia\, Teatro Malibran
DESCRIPTION:
URL:https://www.operaeducation.org/evento/piccoloorso-6-14-anni-venezia/
LOCATION:Teatro Malibran\, Venezia\, Campiello del Teatro\, 5873\, 30133 Venezia VE\, Venezia\, 5873\, Italia
CATEGORIES:Opera domani
ATTACH;FMTTYPE=image/jpeg:https://www.operaeducation.org/wp-content/uploads/2026/02/Piccolo-Orso-OD-1.jpg
ORGANIZER;CN="AsLiCo":MAILTO:info@operaeducation.org
END:VEVENT
BEGIN:VEVENT
DTSTART;TZID=Europe/Paris:20260201T110000
DTEND;TZID=Europe/Paris:20260201T123000
DTSTAMP:20260423T003202
CREATED:20260223T110909Z
LAST-MODIFIED:20260223T110909Z
UID:48893-1769943600-1769949000@www.operaeducation.org
SUMMARY:Piccolo Orso 6-14 anni - Venezia\, Teatro Malibran
DESCRIPTION:
URL:https://www.operaeducation.org/evento/piccolo-orso-6-14-anni-venezia-teatro-malibran/
LOCATION:Teatro Malibran\, Venezia\, Campiello del Teatro\, 5873\, 30133 Venezia VE\, Venezia\, 5873\, Italia
CATEGORIES:Opera domani
ATTACH;FMTTYPE=image/jpeg:https://www.operaeducation.org/wp-content/uploads/2026/02/Piccolo-Orso-OD-1.jpg
ORGANIZER;CN="AsLiCo":MAILTO:info@operaeducation.org
END:VEVENT
BEGIN:VEVENT
DTSTART;TZID=Europe/Paris:20260214T160000
DTEND;TZID=Europe/Paris:20260214T173000
DTSTAMP:20260423T003202
CREATED:20260218T120453Z
LAST-MODIFIED:20260218T165753Z
UID:48815-1771084800-1771090200@www.operaeducation.org
SUMMARY:Rigoletto 6-14 anni - Como\, Teatro Sociale
DESCRIPTION:
URL:https://www.operaeducation.org/evento/rigoletto-6-14-anni/2026-02-14/
LOCATION:Teatro Sociale di Como\, Via Bellini 3\, Como\, Como\, 22100\, Italia
CATEGORIES:Opera domani
ATTACH;FMTTYPE=image/jpeg:https://www.operaeducation.org/wp-content/uploads/2026/02/Rigoletto-OD-scaled.jpg
ORGANIZER;CN="AsLiCo":MAILTO:info@operaeducation.org
END:VEVENT
BEGIN:VEVENT
DTSTART;TZID=Europe/Paris:20260301T160000
DTEND;TZID=Europe/Paris:20260301T173000
DTSTAMP:20260423T003202
CREATED:20260218T164836Z
LAST-MODIFIED:20260218T165510Z
UID:48838-1772380800-1772386200@www.operaeducation.org
SUMMARY:Piccolo Orso 6-14 anni - Reggio Emilia\, Teatro Valli
DESCRIPTION:
URL:https://www.operaeducation.org/evento/rigoletto-6-14-anni-macerata-sferisterio/
LOCATION:Teatro Valli\, Reggio Emilia\, Italia
CATEGORIES:Opera domani
ATTACH;FMTTYPE=image/jpeg:https://www.operaeducation.org/wp-content/uploads/2026/02/Piccolo-Orso-OD-scaled.jpg
ORGANIZER;CN="AsLiCo":MAILTO:info@operaeducation.org
END:VEVENT
BEGIN:VEVENT
DTSTART;TZID=Europe/Paris:20260301T170000
DTEND;TZID=Europe/Paris:20260301T183000
DTSTAMP:20260423T003202
CREATED:20260218T135140Z
LAST-MODIFIED:20260223T125015Z
UID:48823-1772384400-1772389800@www.operaeducation.org
SUMMARY:Rigoletto 6-14 anni - Bergamo\, Teatro Sociale
DESCRIPTION:Rigoletto. Il mistero del teatro è un’opera partecipativa!\nPer arrivare preparato allo spettacolo scarica gratuitamente il Kit dello spettatore. \nACQUISTA QUI I BIGLIETTI
URL:https://www.operaeducation.org/evento/rigoletto-6-14-anni-2/
LOCATION:Teatro Sociale di Bergamo\, Italia
CATEGORIES:Opera domani
ATTACH;FMTTYPE=image/jpeg:https://www.operaeducation.org/wp-content/uploads/2026/02/Rigoletto-OD-scaled.jpg
ORGANIZER;CN="AsLiCo":MAILTO:info@operaeducation.org
END:VEVENT
BEGIN:VEVENT
DTSTART;TZID=Europe/Paris:20260318T183000
DTEND;TZID=Europe/Paris:20260318T200000
DTSTAMP:20260423T003202
CREATED:20260223T113240Z
LAST-MODIFIED:20260223T124643Z
UID:48897-1773858600-1773864000@www.operaeducation.org
SUMMARY:Piccolo Orso 6-14 anni - Lucca\, Teatro del Giglio
DESCRIPTION:Piccolo Orso e la Montagna di ghiaccio è un’opera partecipativa!\nPer arrivare preparato allo spettacolo scarica gratuitamente il Kit dello spettatore. \nACQUISTA QUI I BIGLIETTI
URL:https://www.operaeducation.org/evento/piccolo-orso-6-14-anni-lucca-giglio/
LOCATION:Teatro del Giglio\, Lucca\, Piazza del Giglio\, 13/15\, Lucca\, 55100\, Italia
CATEGORIES:Opera domani
ATTACH;FMTTYPE=image/jpeg:https://www.operaeducation.org/wp-content/uploads/2026/02/Piccolo-Orso-OD-scaled.jpg
ORGANIZER;CN="AsLiCo":MAILTO:info@operaeducation.org
END:VEVENT
BEGIN:VEVENT
DTSTART;TZID=Europe/Paris:20260417T180000
DTEND;TZID=Europe/Paris:20260417T193000
DTSTAMP:20260423T003202
CREATED:20260218T140017Z
LAST-MODIFIED:20260218T141442Z
UID:48825-1776448800-1776454200@www.operaeducation.org
SUMMARY:Rigoletto 6-14 anni - Parma\, Teatro Regio
DESCRIPTION:
URL:https://www.operaeducation.org/evento/rigoletto-6-14-anni-parma/
LOCATION:Teatro Regio di Parma\, Str. Giuseppe Garibaldi\, 16/a\, Parma\, Parma\, 43121\, Italia
CATEGORIES:Opera domani
ATTACH;FMTTYPE=image/jpeg:https://www.operaeducation.org/wp-content/uploads/2026/02/Rigoletto-OD-scaled.jpg
ORGANIZER;CN="AsLiCo":MAILTO:info@operaeducation.org
END:VEVENT
BEGIN:VEVENT
DTSTART;TZID=Europe/Paris:20260418T150000
DTEND;TZID=Europe/Paris:20260418T163000
DTSTAMP:20260423T003202
CREATED:20260218T162921Z
LAST-MODIFIED:20260218T163437Z
UID:48832-1776524400-1776529800@www.operaeducation.org
SUMMARY:Rigoletto 6-14 anni - Parma\, Teatro Regio
DESCRIPTION:
URL:https://www.operaeducation.org/evento/rigoletto-6-14-anni-parma-teatro-regio-2/
LOCATION:Teatro Regio di Parma\, Str. Giuseppe Garibaldi\, 16/a\, Parma\, Parma\, 43121\, Italia
CATEGORIES:Opera domani
ATTACH;FMTTYPE=image/jpeg:https://www.operaeducation.org/wp-content/uploads/2026/02/Rigoletto-OD-scaled.jpg
ORGANIZER;CN="AsLiCo":MAILTO:info@operaeducation.org
END:VEVENT
BEGIN:VEVENT
DTSTART;TZID=Europe/Paris:20260418T180000
DTEND;TZID=Europe/Paris:20260418T193000
DTSTAMP:20260423T003202
CREATED:20260218T162704Z
LAST-MODIFIED:20260223T124235Z
UID:48830-1776535200-1776540600@www.operaeducation.org
SUMMARY:Rigoletto 6-14 anni - Parma\, Teatro Regio
DESCRIPTION:Rigoletto. Il mistero del teatro è un’opera partecipativa!\nPer arrivare preparato allo spettacolo scarica gratuitamente il Kit dello spettatore. \nACQUISTA QUI I BIGLIETTI
URL:https://www.operaeducation.org/evento/rigoletto-6-14-anni-parma-teatro-regio/
LOCATION:Teatro Regio di Parma\, Str. Giuseppe Garibaldi\, 16/a\, Parma\, Parma\, 43121\, Italia
CATEGORIES:Opera domani
ATTACH;FMTTYPE=image/jpeg:https://www.operaeducation.org/wp-content/uploads/2026/02/Rigoletto-OD-scaled.jpg
ORGANIZER;CN="AsLiCo":MAILTO:info@operaeducation.org
END:VEVENT
BEGIN:VEVENT
DTSTART;TZID=Europe/Paris:20260430T203000
DTEND;TZID=Europe/Paris:20260430T220000
DTSTAMP:20260423T003202
CREATED:20260223T113522Z
LAST-MODIFIED:20260223T124447Z
UID:48901-1777581000-1777586400@www.operaeducation.org
SUMMARY:Piccolo Orso 6-14 anni - Milano\, Teatro Lirico Gaber
DESCRIPTION:Piccolo Orso e la Montagna di ghiaccio è un’opera partecipativa!\nPer arrivare preparato allo spettacolo scarica gratuitamente il Kit dello spettatore. \nACQUISTA QUI I BIGLIETTI
URL:https://www.operaeducation.org/evento/piccolo-orso-6-14-anni-milano-teatro-lirico-gaber/
LOCATION:Teatro Lirico Giorgio Gaber\, Via Larga\, 14\, 20122 Milano MI\, Milano\, 20122
CATEGORIES:Opera domani
ATTACH;FMTTYPE=image/jpeg:https://www.operaeducation.org/wp-content/uploads/2026/02/Piccolo-Orso-OD-scaled.jpg
ORGANIZER;CN="AsLiCo":MAILTO:info@operaeducation.org
END:VEVENT
BEGIN:VEVENT
DTSTART;TZID=Europe/Paris:20260509T160000
DTEND;TZID=Europe/Paris:20260509T173000
DTSTAMP:20260423T003202
CREATED:20260223T121207Z
LAST-MODIFIED:20260304T160726Z
UID:48903-1778342400-1778347800@www.operaeducation.org
SUMMARY:Piccolo Orso 6-14 anni - Como\, Teatro Sociale
DESCRIPTION:Piccolo Orso e la Montagna di ghiaccio è un’opera partecipativa!\nPreparati a interagire scaricando gratuitamente il Kit dello spettatore \nAl Teatro Sociale di Como lo spettacolo andrà in scena in due repliche\, alle ore 16.00 e alle ore 20.30.\nLaboratorio pre-spettacolo gratuito alle 14.30. \nACQUISTA I BIGLIETTI
URL:https://www.operaeducation.org/evento/piccolo-orso-6-14-anni-como-teatro-sociale/2026-05-09/
LOCATION:Teatro Sociale di Como\, Via Bellini 3\, Como\, Como\, 22100\, Italia
CATEGORIES:Opera domani
ATTACH;FMTTYPE=image/jpeg:https://www.operaeducation.org/wp-content/uploads/2026/02/Piccolo-Orso-OD-scaled.jpg
ORGANIZER;CN="AsLiCo":MAILTO:info@operaeducation.org
END:VEVENT
BEGIN:VEVENT
DTSTART;TZID=Europe/Paris:20260509T170000
DTEND;TZID=Europe/Paris:20260509T183000
DTSTAMP:20260423T003202
CREATED:20260311T111749Z
LAST-MODIFIED:20260311T135223Z
UID:49059-1778346000-1778351400@www.operaeducation.org
SUMMARY:Turandot 6-14 anni - Arena di Verona
DESCRIPTION:Uno dei titoli pucciniani più noti\, ma in formato famiglia! Turandot. Enigmi al museo è un’avventura per piccoli e grandi firmata Opera Education-AsLiCo. Uno spettacolo pensato per avvicinare bambini e ragazzi\, con le loro famiglie e scuole\, al mondo dell’opera lirica attraverso una narrazione coinvolgente\, interattiva adatta a tutte le età. \nTutti gli spettatori saranno coinvolti in uno spettacolo partecipativo\, immersivo e inclusivo. Guidato dal direttore d’orchestra\, il pubblico sarà invitato a cantare\, eseguire semplici movimenti e utilizzare oggetti di scena\, trasformando l’intero anfiteatro in un grande palcoscenico condiviso.\nGenerali Italia è Education partner del progetto. \nPer arrivare preparato allo spettacolo scarica gratuitamente il Kit dello spettatore. \nACQUISTA QUI I BIGLIETTI
URL:https://www.operaeducation.org/evento/turandot-arena-verona-opera-domani/
LOCATION:Arena di Verona\, P.za Bra\, 1\, Verona\, 37121\, Italia
CATEGORIES:Opera domani
ATTACH;FMTTYPE=image/jpeg:https://www.operaeducation.org/wp-content/uploads/2026/03/Banner-Arena-Turandot-scaled.jpg
ORGANIZER;CN="AsLiCo":MAILTO:info@operaeducation.org
END:VEVENT
BEGIN:VEVENT
DTSTART;TZID=Europe/Paris:20260523T160000
DTEND;TZID=Europe/Paris:20260523T173000
DTSTAMP:20260423T003202
CREATED:20260218T164214Z
LAST-MODIFIED:20260218T164249Z
UID:48834-1779552000-1779557400@www.operaeducation.org
SUMMARY:Rigoletto 6-14 anni - Brescia\, Teatro Grande
DESCRIPTION:
URL:https://www.operaeducation.org/evento/rigoletto-6-14-anni-brescia-teatro-grande/
LOCATION:Teatro Grande di Brescia\, Italia
CATEGORIES:Opera domani
ATTACH;FMTTYPE=image/jpeg:https://www.operaeducation.org/wp-content/uploads/2026/02/Rigoletto-OD-scaled.jpg
ORGANIZER;CN="AsLiCo":MAILTO:info@operaeducation.org
END:VEVENT
BEGIN:VEVENT
DTSTART;TZID=Europe/Paris:20260523T193000
DTEND;TZID=Europe/Paris:20260523T210000
DTSTAMP:20260423T003202
CREATED:20260218T164400Z
LAST-MODIFIED:20260223T124027Z
UID:48836-1779564600-1779570000@www.operaeducation.org
SUMMARY:Rigoletto 6-14 anni - Brescia\, Teatro Grande
DESCRIPTION:Rigoletto. Il mistero del teatro è un’opera partecipativa!\nPer arrivare preparato allo spettacolo scarica gratuitamente il Kit dello spettatore. \nACQUISTA QUI I BIGLIETTI
URL:https://www.operaeducation.org/evento/rigoletto-6-14-anni-brescia-teatro-grande-2/
LOCATION:Teatro Grande di Brescia\, Italia
CATEGORIES:Opera domani
ATTACH;FMTTYPE=image/jpeg:https://www.operaeducation.org/wp-content/uploads/2026/02/Rigoletto-OD-scaled.jpg
ORGANIZER;CN="AsLiCo":MAILTO:info@operaeducation.org
END:VEVENT
BEGIN:VEVENT
DTSTART;TZID=Europe/Paris:20260605T204500
DTEND;TZID=Europe/Paris:20260605T221500
DTSTAMP:20260423T003202
CREATED:20260218T172427Z
LAST-MODIFIED:20260223T123546Z
UID:48854-1780692300-1780697700@www.operaeducation.org
SUMMARY:Rigoletto 6-14 anni - Macerata\, Sferisterio
DESCRIPTION:Rigoletto. Il mistero del teatro è un’opera partecipativa!\nPreparati a interagire scaricando gratuitamente il Kit dello spettatore \nACQUISTA I BIGLIETTI
URL:https://www.operaeducation.org/evento/rigoletto-6-14-anni-macerata-sferisterio-2/2026-06-05/
LOCATION:Sferisterio\, Macerata\, Piazza Nazario Sauro\, Macerata\, 62100\, Italia
CATEGORIES:Opera domani
ATTACH;FMTTYPE=image/jpeg:https://www.operaeducation.org/wp-content/uploads/2026/02/Rigoletto-OD-scaled.jpg
ORGANIZER;CN="AsLiCo":MAILTO:info@operaeducation.org
END:VEVENT
BEGIN:VEVENT
DTSTART;TZID=Europe/Paris:20260606T204500
DTEND;TZID=Europe/Paris:20260606T221500
DTSTAMP:20260423T003202
CREATED:20260218T172427Z
LAST-MODIFIED:20260223T123546Z
UID:48855-1780778700-1780784100@www.operaeducation.org
SUMMARY:Rigoletto 6-14 anni - Macerata\, Sferisterio
DESCRIPTION:Rigoletto. Il mistero del teatro è un’opera partecipativa!\nPreparati a interagire scaricando gratuitamente il Kit dello spettatore \nACQUISTA I BIGLIETTI
URL:https://www.operaeducation.org/evento/rigoletto-6-14-anni-macerata-sferisterio-2/2026-06-06/
LOCATION:Sferisterio\, Macerata\, Piazza Nazario Sauro\, Macerata\, 62100\, Italia
CATEGORIES:Opera domani
ATTACH;FMTTYPE=image/jpeg:https://www.operaeducation.org/wp-content/uploads/2026/02/Rigoletto-OD-scaled.jpg
ORGANIZER;CN="AsLiCo":MAILTO:info@operaeducation.org
END:VEVENT
BEGIN:VEVENT
DTSTART;TZID=Europe/Paris:20260607T204500
DTEND;TZID=Europe/Paris:20260607T221500
DTSTAMP:20260423T003202
CREATED:20260218T172427Z
LAST-MODIFIED:20260223T123547Z
UID:48856-1780865100-1780870500@www.operaeducation.org
SUMMARY:Rigoletto 6-14 anni - Macerata\, Sferisterio
DESCRIPTION:Rigoletto. Il mistero del teatro è un’opera partecipativa!\nPreparati a interagire scaricando gratuitamente il Kit dello spettatore \nACQUISTA I BIGLIETTI
URL:https://www.operaeducation.org/evento/rigoletto-6-14-anni-macerata-sferisterio-2/2026-06-07/
LOCATION:Sferisterio\, Macerata\, Piazza Nazario Sauro\, Macerata\, 62100\, Italia
CATEGORIES:Opera domani
ATTACH;FMTTYPE=image/jpeg:https://www.operaeducation.org/wp-content/uploads/2026/02/Rigoletto-OD-scaled.jpg
ORGANIZER;CN="AsLiCo":MAILTO:info@operaeducation.org
END:VEVENT
BEGIN:VEVENT
DTSTART;TZID=Europe/Paris:20260608T204500
DTEND;TZID=Europe/Paris:20260608T221500
DTSTAMP:20260423T003202
CREATED:20260218T172427Z
LAST-MODIFIED:20260223T123547Z
UID:48857-1780951500-1780956900@www.operaeducation.org
SUMMARY:Rigoletto 6-14 anni - Macerata\, Sferisterio
DESCRIPTION:Rigoletto. Il mistero del teatro è un’opera partecipativa!\nPreparati a interagire scaricando gratuitamente il Kit dello spettatore \nACQUISTA I BIGLIETTI
URL:https://www.operaeducation.org/evento/rigoletto-6-14-anni-macerata-sferisterio-2/2026-06-08/
LOCATION:Sferisterio\, Macerata\, Piazza Nazario Sauro\, Macerata\, 62100\, Italia
CATEGORIES:Opera domani
ATTACH;FMTTYPE=image/jpeg:https://www.operaeducation.org/wp-content/uploads/2026/02/Rigoletto-OD-scaled.jpg
ORGANIZER;CN="AsLiCo":MAILTO:info@operaeducation.org
END:VEVENT
BEGIN:VEVENT
DTSTART;TZID=Europe/Paris:20260609T204500
DTEND;TZID=Europe/Paris:20260609T221500
DTSTAMP:20260423T003202
CREATED:20260218T172427Z
LAST-MODIFIED:20260223T123548Z
UID:48858-1781037900-1781043300@www.operaeducation.org
SUMMARY:Rigoletto 6-14 anni - Macerata\, Sferisterio
DESCRIPTION:Rigoletto. Il mistero del teatro è un’opera partecipativa!\nPreparati a interagire scaricando gratuitamente il Kit dello spettatore \nACQUISTA I BIGLIETTI
URL:https://www.operaeducation.org/evento/rigoletto-6-14-anni-macerata-sferisterio-2/2026-06-09/
LOCATION:Sferisterio\, Macerata\, Piazza Nazario Sauro\, Macerata\, 62100\, Italia
CATEGORIES:Opera domani
ATTACH;FMTTYPE=image/jpeg:https://www.operaeducation.org/wp-content/uploads/2026/02/Rigoletto-OD-scaled.jpg
ORGANIZER;CN="AsLiCo":MAILTO:info@operaeducation.org
END:VEVENT
BEGIN:VEVENT
DTSTART;TZID=Europe/Paris:20260610T204500
DTEND;TZID=Europe/Paris:20260610T221500
DTSTAMP:20260423T003202
CREATED:20260218T172427Z
LAST-MODIFIED:20260223T123548Z
UID:48888-1781124300-1781129700@www.operaeducation.org
SUMMARY:Rigoletto 6-14 anni - Macerata\, Sferisterio
DESCRIPTION:Rigoletto. Il mistero del teatro è un’opera partecipativa!\nPreparati a interagire scaricando gratuitamente il Kit dello spettatore \nACQUISTA I BIGLIETTI
URL:https://www.operaeducation.org/evento/rigoletto-6-14-anni-macerata-sferisterio-2/2026-06-10/
LOCATION:Sferisterio\, Macerata\, Piazza Nazario Sauro\, Macerata\, 62100\, Italia
CATEGORIES:Opera domani
ATTACH;FMTTYPE=image/jpeg:https://www.operaeducation.org/wp-content/uploads/2026/02/Rigoletto-OD-scaled.jpg
ORGANIZER;CN="AsLiCo":MAILTO:info@operaeducation.org
END:VEVENT
END:VCALENDAR