BEGIN:VCALENDAR
VERSION:2.0
PRODID:-//Opera Education - ECPv6.10.2//NONSGML v1.0//EN
CALSCALE:GREGORIAN
METHOD:PUBLISH
X-ORIGINAL-URL:https://www.operaeducation.org
X-WR-CALDESC:Eventi per Opera Education
REFRESH-INTERVAL;VALUE=DURATION:PT1H
X-Robots-Tag:noindex
X-PUBLISHED-TTL:PT1H
BEGIN:VTIMEZONE
TZID:Europe/Paris
BEGIN:DAYLIGHT
TZOFFSETFROM:+0100
TZOFFSETTO:+0200
TZNAME:CEST
DTSTART:20260329T010000
END:DAYLIGHT
BEGIN:STANDARD
TZOFFSETFROM:+0200
TZOFFSETTO:+0100
TZNAME:CET
DTSTART:20261025T010000
END:STANDARD
END:VTIMEZONE
BEGIN:VEVENT
DTSTART;TZID=Europe/Paris:20260228T160000
DTEND;TZID=Europe/Paris:20260228T173000
DTSTAMP:20260421T133903
CREATED:20260223T154800Z
LAST-MODIFIED:20260225T141111Z
UID:48895-1772294400-1772299800@www.operaeducation.org
SUMMARY:Gilda. Nel gioco del Duca - 3-6 anni - Como\, Teatro Sociale
DESCRIPTION:Gilda. Nel gioco del Duca è uno spettacolo partecipativo!\nPer arrivare preparato allo spettacolo scarica gratuitamente il Kit dello spettatore. \nACQUISTA QUI I BIGLIETTI \nLaboratorio gratuito alle ore 14.30
URL:https://www.operaeducation.org/evento/gilda-kids-como/
LOCATION:Teatro Sociale di Como\, Via Bellini 3\, Como\, Como\, 22100\, Italia
CATEGORIES:Opera kids
ATTACH;FMTTYPE=image/jpeg:https://www.operaeducation.org/wp-content/uploads/2026/02/Opera-kids-Gilda-scaled.jpg
ORGANIZER;CN="AsLiCo":MAILTO:info@operaeducation.org
END:VEVENT
END:VCALENDAR