BEGIN:VCALENDAR
VERSION:2.0
PRODID:-//Opera Education - ECPv6.10.2//NONSGML v1.0//EN
CALSCALE:GREGORIAN
METHOD:PUBLISH
X-ORIGINAL-URL:https://www.operaeducation.org
X-WR-CALDESC:Eventi per Opera Education
REFRESH-INTERVAL;VALUE=DURATION:PT1H
X-Robots-Tag:noindex
X-PUBLISHED-TTL:PT1H
BEGIN:VTIMEZONE
TZID:Europe/Paris
BEGIN:DAYLIGHT
TZOFFSETFROM:+0100
TZOFFSETTO:+0200
TZNAME:CEST
DTSTART:20250330T010000
END:DAYLIGHT
BEGIN:STANDARD
TZOFFSETFROM:+0200
TZOFFSETTO:+0100
TZNAME:CET
DTSTART:20251026T010000
END:STANDARD
END:VTIMEZONE
BEGIN:VEVENT
DTSTART;TZID=Europe/Paris:20250706T103000
DTEND;TZID=Europe/Paris:20250706T110000
DTSTAMP:20260422T021053
CREATED:20250507T095307Z
LAST-MODIFIED:20250507T095307Z
UID:47469-1751797800-1751799600@www.operaeducation.org
SUMMARY:PATATRAC! Le burle di Falstaff – Parco Negretti
DESCRIPTION:Opera baby – X edizione\nLiberamente ispirato a Falstaff di Giuseppe Verdi\nDrammaturgia musicale Anna Pedrazzini\nRegia Beatrice Baruffini\nNuovo allestimento\nProduzione AsLiCo \nSpettacolo musicale con attore e musicista.\nDurata: 40 minuti \nIngresso gratuito.\nIn caso di maltempo\, l’evento si terrà al Teatro Sociale. \n\nUna palla è una pancia\, una testa\, un corpo di animale. Per gioco si trasforma di continuo\, e tra una burla e l’altra\, è perfino possibile che diventi Falstaff! \n 
URL:https://www.operaeducation.org/evento/patatrac-le-burle-di-falstaff-parco-negretti/
LOCATION:Parco Negretti
ATTACH;FMTTYPE=image/jpeg:https://www.operaeducation.org/wp-content/uploads/2025/04/OB-Patatrac.jpg
ORGANIZER;CN="AsLiCo":MAILTO:info@operaeducation.org
END:VEVENT
BEGIN:VEVENT
DTSTART;TZID=Europe/Paris:20250706T173000
DTEND;TZID=Europe/Paris:20250706T180000
DTSTAMP:20260422T021053
CREATED:20250507T095910Z
LAST-MODIFIED:20250507T095910Z
UID:47471-1751823000-1751824800@www.operaeducation.org
SUMMARY:PATATRAC! Le burle di Falstaff – Parco di Villa Olmo
DESCRIPTION:Opera baby – X edizione\nLiberamente ispirato a Falstaff di Giuseppe Verdi\nDrammaturgia musicale Anna Pedrazzini\nRegia Beatrice Baruffini\nNuovo allestimento\nProduzione AsLiCo \nSpettacolo musicale con attore e musicista.\nDurata: 40 minuti \nIngresso gratuito.\nIn caso di maltempo\, l’evento si terrà al Teatro Sociale. \n\nUna palla è una pancia\, una testa\, un corpo di animale. Per gioco si trasforma di continuo\, e tra una burla e l’altra\, è perfino possibile che diventi Falstaff! \n 
URL:https://www.operaeducation.org/evento/patatrac-le-burle-di-falstaff-parco-di-villa-olmo/
LOCATION:Parco di Villa Olmo\, Como\, 22100
ATTACH;FMTTYPE=image/jpeg:https://www.operaeducation.org/wp-content/uploads/2025/04/OB-Patatrac.jpg
ORGANIZER;CN="AsLiCo":MAILTO:info@operaeducation.org
END:VEVENT
END:VCALENDAR